BEGIN:VCALENDAR
VERSION:2.0
PRODID:-//Nita Sweeney, Author, Runner, Mindfulness Coach - ECPv6.15.20//NONSGML v1.0//EN
CALSCALE:GREGORIAN
METHOD:PUBLISH
X-ORIGINAL-URL:https://nitasweeney.com
X-WR-CALDESC:Events for Nita Sweeney, Author, Runner, Mindfulness Coach
REFRESH-INTERVAL;VALUE=DURATION:PT1H
X-Robots-Tag:noindex
X-PUBLISHED-TTL:PT1H
BEGIN:VTIMEZONE
TZID:America/New_York
BEGIN:DAYLIGHT
TZOFFSETFROM:-0500
TZOFFSETTO:-0400
TZNAME:EDT
DTSTART:20200308T070000
END:DAYLIGHT
BEGIN:STANDARD
TZOFFSETFROM:-0400
TZOFFSETTO:-0500
TZNAME:EST
DTSTART:20201101T060000
END:STANDARD
BEGIN:DAYLIGHT
TZOFFSETFROM:-0500
TZOFFSETTO:-0400
TZNAME:EDT
DTSTART:20210314T070000
END:DAYLIGHT
BEGIN:STANDARD
TZOFFSETFROM:-0400
TZOFFSETTO:-0500
TZNAME:EST
DTSTART:20211107T060000
END:STANDARD
BEGIN:DAYLIGHT
TZOFFSETFROM:-0500
TZOFFSETTO:-0400
TZNAME:EDT
DTSTART:20220313T070000
END:DAYLIGHT
BEGIN:STANDARD
TZOFFSETFROM:-0400
TZOFFSETTO:-0500
TZNAME:EST
DTSTART:20221106T060000
END:STANDARD
END:VTIMEZONE
BEGIN:VEVENT
DTSTART;TZID=America/New_York:20210308T183000
DTEND;TZID=America/New_York:20210308T203000
DTSTAMP:20260423T013506
CREATED:20201229T162035Z
LAST-MODIFIED:20210225T010346Z
UID:9243-1615228200-1615235400@nitasweeney.com
SUMMARY:Blogging for Authors with Nita Sweeney – Online
DESCRIPTION:Blogging for Authors with Nita Sweeney – Online\n\nMonday\, March 8\, 2021\, from 6:30 p.m. to 8:30 p.m. ET\n (3:30pm to 5:30 pm PT)\n \nREGISTRATION REQUIRED! \nTHIS EVENT WILL BE ONLINE. \nFee: $25 \nWhether you write nonfiction or fiction\, writing a blog can help you build a platform\, gain credibility\, find a publisher\, and market your books. Still\, many writers balk at blogging. Others start to blog but aren’t effective. Join award-winning author Nita Sweeney for this workshop on why and how to successfully blog. Learn tips\, strategies\, and best practices for author blogs. \nFor more information or to register online\, call 614-583-5300. \nOnce you register\, the information will be sent on how to log in.
URL:https://nitasweeney.com/event/blogging-for-authors/
LOCATION:Zoom\, OH\, United States
CATEGORIES:Nita's Events,Write Now Events
ATTACH;FMTTYPE=image/jpeg:https://nitasweeney.com/wp-content/uploads/2020/12/Blogging-for-Authors.jpg
END:VEVENT
END:VCALENDAR