BEGIN:VCALENDAR
VERSION:2.0
PRODID:-//Nita Sweeney, Author, Runner, Mindfulness Coach - ECPv6.15.20//NONSGML v1.0//EN
CALSCALE:GREGORIAN
METHOD:PUBLISH
X-WR-CALNAME:Nita Sweeney, Author, Runner, Mindfulness Coach
X-ORIGINAL-URL:https://nitasweeney.com
X-WR-CALDESC:Events for Nita Sweeney, Author, Runner, Mindfulness Coach
REFRESH-INTERVAL;VALUE=DURATION:PT1H
X-Robots-Tag:noindex
X-PUBLISHED-TTL:PT1H
BEGIN:VTIMEZONE
TZID:America/New_York
BEGIN:DAYLIGHT
TZOFFSETFROM:-0500
TZOFFSETTO:-0400
TZNAME:EDT
DTSTART:20200308T070000
END:DAYLIGHT
BEGIN:STANDARD
TZOFFSETFROM:-0400
TZOFFSETTO:-0500
TZNAME:EST
DTSTART:20201101T060000
END:STANDARD
BEGIN:DAYLIGHT
TZOFFSETFROM:-0500
TZOFFSETTO:-0400
TZNAME:EDT
DTSTART:20210314T070000
END:DAYLIGHT
BEGIN:STANDARD
TZOFFSETFROM:-0400
TZOFFSETTO:-0500
TZNAME:EST
DTSTART:20211107T060000
END:STANDARD
BEGIN:DAYLIGHT
TZOFFSETFROM:-0500
TZOFFSETTO:-0400
TZNAME:EDT
DTSTART:20220313T070000
END:DAYLIGHT
BEGIN:STANDARD
TZOFFSETFROM:-0400
TZOFFSETTO:-0500
TZNAME:EST
DTSTART:20221106T060000
END:STANDARD
END:VTIMEZONE
BEGIN:VEVENT
DTSTART;TZID=America/New_York:20210414T163000
DTEND;TZID=America/New_York:20210414T173000
DTSTAMP:20260422T230044
CREATED:20210413T132747Z
LAST-MODIFIED:20210414T142250Z
UID:10246-1618417800-1618421400@nitasweeney.com
SUMMARY:The Power of Story
DESCRIPTION:The Power of Story \nDuring this pandemic\, people need all the support they can get. Mango Publishing wants to share the wisdom of its authors.\n  \n“Wisdom from the Heart During These Challenging Times” is a panel discussion that welcomes inspiring authors to share their wisdom and natural talents. They also provide helpful tips and practices for implementing self-care\, love\, compassion\, and connection.\n\n  \nThis week is about “The Power of Story.” Our magnificent group will learn where stories come from and how they are made even greater with the narratives we add.\n  \nCome join our transcending conversation and immerse yourself in thought-provoking conversations.\n  \nThe authors will take questions from the audience.\n\n  \nThis is a virtual panel\, held on Zoom. Please arrive early. To register\, please email: ramirezneverdie@gmail.com and she will send you the link.\n\n  \n*The panel includes*\n\n  \nKate Farrell is a storyteller\, author\, and librarian. She founded the Word Weaving Storytelling Project and has published numerous educational materials on storytelling. Kate is the author of “Story Power: Secrets to Creating\, Crafting\, and Telling Memorable Stories.”\n\n  \nSherry Richert Belul\, author of “Say it Now: 33 Creative Ways to Say I Love You to the Most Important People in Your Life\,” is the founder of Simply Celebrate\, a business dedicated to helping people live colorful\, connected\, creative lives of love and appreciation.\n\n  \nNita Sweeney is the award-winning author of the running and mental health memoir\, Depression Hates a Moving Target\, and co-creator of the writing journal\, You Should Be Writing. Nita founded Mind\, Mood\, and Movement a wellness Facebook Group.
URL:https://nitasweeney.com/event/the-power-of-story/
LOCATION:Online Event
CATEGORIES:Nita's Events,Write Now Events
ATTACH;FMTTYPE=image/jpeg:https://nitasweeney.com/wp-content/uploads/2021/04/173736666_2900030593602358_4461435132977667461_n.jpg
END:VEVENT
END:VCALENDAR