BEGIN:VCALENDAR
VERSION:2.0
PRODID:-//Nita Sweeney, Author, Runner, Mindfulness Coach - ECPv6.15.20//NONSGML v1.0//EN
CALSCALE:GREGORIAN
METHOD:PUBLISH
X-WR-CALNAME:Nita Sweeney, Author, Runner, Mindfulness Coach
X-ORIGINAL-URL:https://nitasweeney.com
X-WR-CALDESC:Events for Nita Sweeney, Author, Runner, Mindfulness Coach
REFRESH-INTERVAL;VALUE=DURATION:PT1H
X-Robots-Tag:noindex
X-PUBLISHED-TTL:PT1H
BEGIN:VTIMEZONE
TZID:America/New_York
BEGIN:DAYLIGHT
TZOFFSETFROM:-0500
TZOFFSETTO:-0400
TZNAME:EDT
DTSTART:20200308T070000
END:DAYLIGHT
BEGIN:STANDARD
TZOFFSETFROM:-0400
TZOFFSETTO:-0500
TZNAME:EST
DTSTART:20201101T060000
END:STANDARD
BEGIN:DAYLIGHT
TZOFFSETFROM:-0500
TZOFFSETTO:-0400
TZNAME:EDT
DTSTART:20210314T070000
END:DAYLIGHT
BEGIN:STANDARD
TZOFFSETFROM:-0400
TZOFFSETTO:-0500
TZNAME:EST
DTSTART:20211107T060000
END:STANDARD
BEGIN:DAYLIGHT
TZOFFSETFROM:-0500
TZOFFSETTO:-0400
TZNAME:EDT
DTSTART:20220313T070000
END:DAYLIGHT
BEGIN:STANDARD
TZOFFSETFROM:-0400
TZOFFSETTO:-0500
TZNAME:EST
DTSTART:20221106T060000
END:STANDARD
END:VTIMEZONE
BEGIN:VEVENT
DTSTART;TZID=America/New_York:20210308T183000
DTEND;TZID=America/New_York:20210308T203000
DTSTAMP:20260423T001429
CREATED:20201229T162035Z
LAST-MODIFIED:20210225T010346Z
UID:9243-1615228200-1615235400@nitasweeney.com
SUMMARY:Blogging for Authors with Nita Sweeney – Online
DESCRIPTION:Blogging for Authors with Nita Sweeney – Online\n\nMonday\, March 8\, 2021\, from 6:30 p.m. to 8:30 p.m. ET\n (3:30pm to 5:30 pm PT)\n \nREGISTRATION REQUIRED! \nTHIS EVENT WILL BE ONLINE. \nFee: $25 \nWhether you write nonfiction or fiction\, writing a blog can help you build a platform\, gain credibility\, find a publisher\, and market your books. Still\, many writers balk at blogging. Others start to blog but aren’t effective. Join award-winning author Nita Sweeney for this workshop on why and how to successfully blog. Learn tips\, strategies\, and best practices for author blogs. \nFor more information or to register online\, call 614-583-5300. \nOnce you register\, the information will be sent on how to log in.
URL:https://nitasweeney.com/event/blogging-for-authors/
LOCATION:Zoom\, OH\, United States
CATEGORIES:Nita's Events,Write Now Events
ATTACH;FMTTYPE=image/jpeg:https://nitasweeney.com/wp-content/uploads/2020/12/Blogging-for-Authors.jpg
END:VEVENT
BEGIN:VEVENT
DTSTART;TZID=America/New_York:20210312T120000
DTEND;TZID=America/New_York:20210312T130000
DTSTAMP:20260423T001429
CREATED:20210301T145344Z
LAST-MODIFIED:20210303T190240Z
UID:9700-1615550400-1615554000@nitasweeney.com
SUMMARY:Panel: Where Do Writers Get Their Ideas?
DESCRIPTION:Where Do Writers Get Their Ideas?\nWhat sparks a captivating story? Do writing ideas just appear out of nowhere? Do authors sit around waiting for great ideas to emerge\, or do they systematically go out and find them? \nJoin five published authors as they demystify what often appears as an inexplicable black box. They will share how and where they find the inspiration for their writing\, ranging from lucid dreams\, people watching\, historical events\, and more. Bring your questions about writers’ sources of inspiration for them to answer at the end of the session. \nRegister here: https://wnba-sfchapter.org/march-12-where-do-writers-get-their-ideas/
URL:https://nitasweeney.com/event/panel-where-do-writers-get-their-ideas/
LOCATION:Zoom\, OH\, United States
CATEGORIES:Nita's Events,Write Now Events
ATTACH;FMTTYPE=image/png:https://nitasweeney.com/wp-content/uploads/2021/03/womans-arms-and-hand-holding-pencil-while-writing-small-768x384-1.png
END:VEVENT
BEGIN:VEVENT
DTSTART;TZID=America/New_York:20210331T163000
DTEND;TZID=America/New_York:20210331T173000
DTSTAMP:20260423T001429
CREATED:20210330T164416Z
LAST-MODIFIED:20210402T220155Z
UID:10016-1617208200-1617211800@nitasweeney.com
SUMMARY:Journaling As Self-Care
DESCRIPTION:  \nDuring this pandemic\, people need all the support they can get. Mango Publishing wants to share the wisdom of its authors.\n  \n“Wisdom from the Heart During These Challenging Times” is a panel discussion that includes authors who share wisdom and exude inspiration. Likewise\, they speak on helpful tips and practices for implementing self-care\, love\, compassion\, and connection.\n  \nThis week’s focus is journaling as self-care. Our lovely guest speakers will explain how they use writing to connect with themselves and understand the changing world around them.\nCome join our transcending conversation and immerse yourself in thought-provoking conversations.\n  \nThe authors will take questions from the audience.\n  \nThis is a virtual panel\, held on Zoom. Please arrive early. To register\, please email: ramirezneverdie@gmail.com and she will send you the link.\n  \n*The panel includes*\n  \nNita Sweeney is the award-winning author of the running and mental health memoir\, Depression Hates a Moving Target\, and co-creator of the writing journal\, You Should Be Writing. A long-time meditator\, and former assistant to writing practice originator Natalie Goldberg\, Nita founded Mind\, Mood\, and Movement a wellness Facebook Group.\n  \nKaren C.L. Anderson- writer of Overcoming Creative Anxiety: Prompts & Practices For Disarming Your Inner Critic- is a master-certified life coach who helps women use the troubled relationship they have with their mothers as a catalyst for growth\, leadership\, wisdom\, and creativity.\n  \nSherry Richert Belul\, author of “Say it Now: 33 Creative Ways to Say I Love You to the Most Important People in Your Life\,” is the founder of Simply Celebrate\, a business dedicated to helping people live colorful\, connected\, creative lives of love and appreciation.\n 
URL:https://nitasweeney.com/event/journaling-as-self-care/
LOCATION:Online Event
CATEGORIES:Nita's Events,Write Now Events
ATTACH;FMTTYPE=image/jpeg:https://nitasweeney.com/wp-content/uploads/2021/03/unnamed.jpg
END:VEVENT
END:VCALENDAR